BEGIN:VCALENDAR
VERSION:2.0
BEGIN:VEVENT
CLASS:PUBLIC
CATEGORIES:MEETING
DTSTART;TZID=America/Toronto:20171222T200000
DTEND;TZID=America/Toronto:20171222T200000
SUMMARY:Amanda Cottreau at Pressed Café
DESCRIPTION:Price: $10\nAge Limit: All Ages\n\nDetails: Gentle hearts are called to gather, to surround one another in warmth during this holiday season, while local songstresses wrap your attention with their enchanting voices and intimate stories.
LOCATION:Pressed Café - 750 Gladstone Avenue, Ottawa, ON, K1R 6X5, CA
END:VEVENT

END:VCALENDAR
