BEGIN:VCALENDAR
VERSION:2.0
BEGIN:VEVENT
CLASS:PUBLIC
CATEGORIES:MEETING
DTSTART;TZID=Europe/Zurich:20180202T200000
DTEND;TZID=Europe/Zurich:20180202T200000
SUMMARY:Audio Inception at Flösserplatz
DESCRIPTION:Age Limit: 16+
LOCATION:Flösserplatz - Flösserstrasse 7, Aarau, AG, 5000, CH
END:VEVENT

END:VCALENDAR
