BEGIN:VCALENDAR
VERSION:2.0
BEGIN:VEVENT
CLASS:PUBLIC
CATEGORIES:MEETING
DTSTART;TZID=Europe/Zurich:20180324T200000
DTEND;TZID=Europe/Zurich:20180324T200000
SUMMARY:Audio Inception at Coq d'Or
DESCRIPTION:Age Limit: 16+
LOCATION:Coq d'Or - Sonneggstrasse 37, Olten, SO, 4600, CH
END:VEVENT

END:VCALENDAR
