BEGIN:VCALENDAR
VERSION:2.0
BEGIN:VEVENT
CLASS:PUBLIC
CATEGORIES:MEETING
DTSTART;TZID=Europe/Athens:20171119T213000
DTEND;TZID=Europe/Athens:20171119T213000
SUMMARY:Alex Papadiamantis at MASK
DESCRIPTION:Price: 10 euro\nAge Limit: All Ages\n\nDetails: Electric violin, vocal ,sax and syths\nAlex music from last albums\ngreek songs and Jazz standarts
LOCATION:MASK - 18 Kalamiotou, Athina, 105 60, GR
END:VEVENT

END:VCALENDAR
