BEGIN:VCALENDAR
VERSION:2.0
BEGIN:VEVENT
CLASS:PUBLIC
CATEGORIES:MEETING
DTSTART;TZID=America/New_York:20171121T190000
DTEND;TZID=America/New_York:20171121T190000
SUMMARY:Stefani Morton at Home Team BBQ
DESCRIPTION:Age Limit: All Ages
LOCATION:Home Team BBQ - 1205 Ashley River Rd & 2209 Middle Street, Charleston & Sullivan's Island, SC, 29407, US
END:VEVENT

END:VCALENDAR
