BEGIN:VCALENDAR
VERSION:2.0
BEGIN:VEVENT
CLASS:PUBLIC
CATEGORIES:MEETING
DTSTART;TZID=Europe/Athens:20171112T213000
DTEND;TZID=Europe/Athens:20171112T213000
SUMMARY:Alex Papadiamantis at MASK
DESCRIPTION:Price: 8 euro\nAge Limit: All Ages\n\nDetails: Instrumental new age and electronica with electric violin - vocals - synths and sax
LOCATION:MASK - 18 Kalamiotou, Athina, 105 60, GR
END:VEVENT

END:VCALENDAR
