BEGIN:VCALENDAR
VERSION:2.0
BEGIN:VEVENT
CLASS:PUBLIC
CATEGORIES:MEETING
DTSTART;TZID=America/New_York:20171201T210000
DTEND;TZID=America/New_York:20171201T210000
SUMMARY:Josh Roberts And The Hinges at Charleston Pourhouse
DESCRIPTION:Price: $10 Advance  | $12 Day Of\nClick here to buy tickets: http://charlestonpourhouse.citypapertickets.com/events/48890682/josh-roberts-and-the-hinges-present\nAge Limit: All Ages\n\nDetails: More artists sitting in through out the night
LOCATION:Charleston Pourhouse - 1977 Maybank Hwy, Charleston, SC, 29412, US
END:VEVENT

END:VCALENDAR
