BEGIN:VCALENDAR
VERSION:2.0
BEGIN:VEVENT
CLASS:PUBLIC
CATEGORIES:MEETING
DTSTART;TZID=America/Chicago:20171115T190000
DTEND;TZID=America/Chicago:20171115T190000
SUMMARY:Soul Punch at Walnut Grill
DESCRIPTION:Age Limit: All Ages\n\nDetails: Fun Cover shoe 
LOCATION:Walnut Grill - 1386 Clarkson/Clayton Shopping Center, Ballwin, MO, 63011, US
END:VEVENT

END:VCALENDAR
