BEGIN:VCALENDAR
VERSION:2.0
BEGIN:VEVENT
CLASS:PUBLIC
CATEGORIES:MEETING
DTSTART;TZID=America/New_York:20100905T190000
DTEND;TZID=America/New_York:20100905T190000
SUMMARY:HERMANS HERMITS   Peter Noone at Busch Gardens Williamsburg
DESCRIPTION:Price: Included with park admission\nClick here to buy tickets: http://www.buschgardens.com/bgw/default.aspx\nAge Limit: All Ages
LOCATION:Busch Gardens Williamsburg - 1 Busch Gardens Blvd, Williamsburg, VA, 23185-5664, US
END:VEVENT

END:VCALENDAR
