BEGIN:VCALENDAR
VERSION:2.0
BEGIN:VEVENT
CLASS:PUBLIC
CATEGORIES:MEETING
DTSTART;TZID=America/Los_Angeles:20171015T170000
DTEND;TZID=America/Los_Angeles:20171015T170000
SUMMARY:Jules Leyhe at Biscuits and Blues
DESCRIPTION:Price: $20\nClick here to buy tickets: http://biscuitsandblues.com/tickets\nAge Limit: All Ages\n\nDetails: Two Shows at 7pm &amp; 9pm
LOCATION:Biscuits and Blues - 401 Mason St, San Francisco, CA, 94102, US
END:VEVENT

END:VCALENDAR
