BEGIN:VCALENDAR
VERSION:2.0
BEGIN:VEVENT
CLASS:PUBLIC
CATEGORIES:MEETING
DTSTART;TZID=America/Chicago:20180301T190000
DTEND;TZID=America/Chicago:20180301T190000
SUMMARY:First Thursday Art + Music! at the 806 coffee + lounge
DESCRIPTION:Price: Donations!\nAge Limit: All Ages\n\nDetails: Art Opening/Reception with Perish @ 7p\nLive tunez by DJ A&#39;ight &amp; Special Guest @ 9p\nthe Happy Hours drink specials all night!
LOCATION:the 806 coffee + lounge - 2812 SW 6th Ave, Amarillo, TX, 79106, US
END:VEVENT

END:VCALENDAR
