BEGIN:VCALENDAR
VERSION:2.0
BEGIN:VEVENT
CLASS:PUBLIC
CATEGORIES:MEETING
DTSTART;TZID=America/Chicago:20171005T190000
DTEND;TZID=America/Chicago:20171005T190000
SUMMARY:First Thursday Art + Music! at the 806 coffee + lounge
DESCRIPTION:Age Limit: All Ages\n\nDetails: First Thursday Art + Music!\nArt Opening / Reception @ 7p!\nMusic by Rupert the Duke @ 9p!\nthe Happy Hours drink specials all night!
LOCATION:the 806 coffee + lounge - 2812 SW 6th Ave, Amarillo, TX, 79106, US
END:VEVENT

END:VCALENDAR
