BEGIN:VCALENDAR
VERSION:2.0
BEGIN:VEVENT
CLASS:PUBLIC
CATEGORIES:MEETING
DTSTART;TZID=America/Chicago:20171020T163000
DTEND;TZID=America/Chicago:20171020T163000
SUMMARY:Soul Punch at Tower Grove Park
DESCRIPTION:Age Limit: All Ages\n\nDetails: We&#39;ll be playing at the Terror at Tower Grove park festival October 20th. Come on out and enjoy fall weather, shops and of course... music! 4:30 PM - 8:30 PM
LOCATION:Tower Grove Park - 4256 Magnolia Ave, Saint Louis, MO, 63110, US
END:VEVENT

END:VCALENDAR
