BEGIN:VCALENDAR
VERSION:2.0
BEGIN:VEVENT
CLASS:PUBLIC
CATEGORIES:MEETING
DTSTART;TZID=America/Chicago:20170913T190000
DTEND;TZID=America/Chicago:20170913T190000
SUMMARY:Soul Punch at Walnut Grill
DESCRIPTION:Age Limit: All Ages\n\nDetails: Fun Cover Show on the patio weather permitting. 
LOCATION:Walnut Grill - 4401 Highway K, O'fallon, MO, 63368, US
END:VEVENT

END:VCALENDAR
