BEGIN:VCALENDAR
VERSION:2.0
BEGIN:VEVENT
CLASS:PUBLIC
CATEGORIES:MEETING
DTSTART;TZID=America/Kentucky/Louisville:20180112T200000
DTEND;TZID=America/Kentucky/Louisville:20180112T200000
SUMMARY:PR1 Promotions / DJ Tiburon at Nirvana
DESCRIPTION:Age Limit: All Ages\n\nDetails: PR1 Promotions presents and evening of entertainment every Friday night at this newly renovated establishment.  Whether you are looking for Comedy, Bands, dj&#39;s , or acoustic performances,...look no further.  The VIP area is ready for you to dress up and show out.  Come see the newest hot spot in the HIghlands.  
LOCATION:Nirvana - Bardstown Rd, Louisville, KY, 40205, US
END:VEVENT

END:VCALENDAR
