BEGIN:VCALENDAR
VERSION:2.0
BEGIN:VEVENT
CLASS:PUBLIC
CATEGORIES:MEETING
DTSTART;TZID=America/Indiana/Indianapolis:20180116T183000
DTEND;TZID=America/Indiana/Indianapolis:20180116T183000
SUMMARY:PR1 Promotions / DJ Tiburon at Smokestack Brew
DESCRIPTION:Age Limit: 21+\n\nDetails: Join us every tuesday night for Live Comedy.  PR1 Promotions presents Nationally recognized comedians.  Get there early and enjoy a great dinner or some drinks.  Always a good time for a laugh.  Another PR1 Promotions Experience.
LOCATION:Smokestack Brew - 100 North Center Street, Mishawaka, IN, 46544, US
END:VEVENT

END:VCALENDAR
