BEGIN:VCALENDAR
VERSION:2.0
BEGIN:VEVENT
CLASS:PUBLIC
CATEGORIES:MEETING
DTSTART;TZID=Europe/London:20171029T200000
DTEND;TZID=Europe/London:20171029T200000
SUMMARY:BB BlackDog Steampunk Rock at Board Inn
DESCRIPTION:Price: free\nAge Limit: All Ages\n\nDetails: Yep we&#39;re going to squeeze the full Band in the Board inn :-), !!!!! 
LOCATION:Board Inn - 125 Church Street, Whitby, NIR, YO22 4DE, UK
END:VEVENT

END:VCALENDAR
