BEGIN:VCALENDAR
VERSION:2.0
BEGIN:VEVENT
CLASS:PUBLIC
CATEGORIES:MEETING
DTSTART;TZID=Europe/London:20171022T190000
DTEND;TZID=Europe/London:20171022T190000
SUMMARY:BB BlackDog Steampunk Rock at Prince Albert
DESCRIPTION:Age Limit: All Ages
LOCATION:Prince Albert - 48 Trafalgar Street, Brighton, BN1 4ED, UK
END:VEVENT

END:VCALENDAR
