BEGIN:VCALENDAR
VERSION:2.0
BEGIN:VEVENT
CLASS:PUBLIC
CATEGORIES:MEETING
DTSTART;TZID=Europe/London:20171020T190000
DTEND;TZID=Europe/London:20171020T190000
SUMMARY:BB BlackDog Steampunk Rock at Cricketers Arms
DESCRIPTION:Price: 10\nClick here to buy tickets: https://www.eventbrite.co.uk/e/steampunk-records-roadshow-tour-tickets-36066627253\nAge Limit: 14+\n\nDetails: Due to Circumstances beyond our Control, we have had to move this event to a new Venue, a Big thank you to Ben Henderson who found us a new Home in less than a Day.\nWhich is https://www.facebook.com/TheCricketersKingston/\nThe Cricketers Kingston \nThere is a 50 capacity now though, and only around 20 tickets left, so please pre book where possible. \nTickets will be honoured from the Museum venue, or if preferred please complete the refund form via Eventbrite.\nThere will also be a Free CD for all door tickets and a cd plus goodies for pre-sales\n\nTickets £10\n\n\nSuperduper Lightshow from ZenJen Lighting Experiment\nBB BlackDog https://www.facebook.com/BBBLACKDOG/\nThe Dark Design, https://www.facebook.com/HailTheDarkDesign/\nFeline and Strange https://www.facebook.com/felineandstrange/ \nThe Big Faux Fibbers https://www.facebook.com/TheBigFibbers/\n\n\nhttps://www.facebook.com/TheCricketersKingston/
LOCATION:Cricketers Arms - 20 Fairfield South,  Kingston on Thames, London, KT1 2UL, UK
END:VEVENT

END:VCALENDAR
