BEGIN:VCALENDAR
VERSION:2.0
BEGIN:VEVENT
CLASS:PUBLIC
CATEGORIES:MEETING
DTSTART;TZID=Europe/London:20171006T190000
DTEND;TZID=Europe/London:20171006T190000
SUMMARY:BB BlackDog Steampunk Rock at Live at the Lab
DESCRIPTION:Price: 10\nClick here to buy tickets: https://www.eventbrite.co.uk/e/steampunk-records-roadshow-tour-tickets-36066627253\nAge Limit: All Ages
LOCATION:Live at the Lab - Charles St, Northampton, NN1 3BG, UK
END:VEVENT

END:VCALENDAR
