BEGIN:VCALENDAR
VERSION:2.0
BEGIN:VEVENT
CLASS:PUBLIC
CATEGORIES:MEETING
DTSTART;TZID=Europe/London:20170930T200000
DTEND;TZID=Europe/London:20170930T200000
SUMMARY:BB BlackDog Steampunk Rock at The Pavillion
DESCRIPTION:Price: Various\nClick here to buy tickets: https://www.eventbrite.com/e/cogwarts-steampunk-spectacular-tickets-34658884657\nAge Limit: All Ages\n\nDetails: From the organiser of the hugely successful Legendary Llangollen Faery Festival comes the first ever Steampunk event in Llangollen, COGWARTS STEAMPUNK SPECTACULAR Two and a half days of utter spiffingness! \nStarting at Llangollen Steam Railway, LL20 8SN at 18.30pm a beautiful steam train will take you THERE AND BACK AGAIN&#39; - a thrilling adventure with entertainments. \nSaturday kicks off at 10 am with THE BIZARRE BAZAAR steampunk market at the Llangollen Pavilion LL20 8SW, (across the road from the railway). With parasol and tea duelling, entertainments, dancing from Belly Fusion, magic by Sylvia Sceptre and a Saturday workshop by Professor Elemental. \nThis is your chance to indulge your passion for all things Steampunk. Pennyfarthing racing to be confirmed. The market closes at 17.00 hrs and the venue opens again on Saturday evening at 19.00 hrs for the Grand Steam Ball. \nTHE GRAND STEAM BALL Featuring Professor Elemental, BB Black Dog, Feline &amp; Strange, The Dark Design, Belly Fusion and Violet Hugh, it will be a superb evening and will close at midnight. Sunday and the Bizarre Bazaar opens again at 10 am with full entertainmens and runs until 17.00 hrs. Tickets are available for individual events as well as discounted all inclusive options.
LOCATION:The Pavillion - Abbey road, Llangollen, WALES, UK
END:VEVENT

END:VCALENDAR
