BEGIN:VCALENDAR
VERSION:2.0
BEGIN:VEVENT
CLASS:PUBLIC
CATEGORIES:MEETING
DTSTART;TZID=Europe/London:20170929T200000
DTEND;TZID=Europe/London:20170929T200000
SUMMARY:BB BlackDog Steampunk Rock at THE DOGHOUSE
DESCRIPTION:Price: 10\nClick here to buy tickets: https://www.eventbrite.co.uk/e/steampunk-records-roadshow-tour-tickets-36066627253\nAge Limit: All Ages\n\nDetails: Hosted by Jezebel Steele\nLightshow from ZenJen Lighting Experiment\nBB BlackDog, \nThe Wattingers\nFeline and Strange
LOCATION:THE DOGHOUSE - 91-93 Carlton Hill, Carlton, NG4 1FP, UK
END:VEVENT

END:VCALENDAR
