BEGIN:VCALENDAR
VERSION:2.0
BEGIN:VEVENT
CLASS:PUBLIC
CATEGORIES:MEETING
DTSTART;TZID=Europe/London:20170923T150000
DTEND;TZID=Europe/London:20170923T150000
SUMMARY:BB BlackDog Steampunk Rock at The Snooty Fox
DESCRIPTION:Price: 10\nClick here to buy tickets: https://www.eventbrite.co.uk/e/steampunk-records-roadshow-tour-tickets-36066627253\nAge Limit: All Ages\n\nDetails: With Your Host Jezebel Steele \nPlus Lightshow from ZenJen Lighting Experiment\nBB BlackDog\nAutomotone\nFeline and Strange\nReturn to Chaos\nLord Montague Jacques Fromage and the Steampunk Funk Bizarre
LOCATION:The Snooty Fox - Wakefield, UK
END:VEVENT

END:VCALENDAR
