BEGIN:VCALENDAR
VERSION:2.0
BEGIN:VEVENT
CLASS:PUBLIC
CATEGORIES:MEETING
DTSTART;TZID=Europe/London:20170922T190000
DTEND;TZID=Europe/London:20170922T190000
SUMMARY:BB BlackDog Steampunk Rock at The Black Market Venue
DESCRIPTION:Price: 10\nClick here to buy tickets: https://www.eventbrite.co.uk/e/steampunk-records-roadshow-tour-tickets-36066627253\nAge Limit: All Ages\n\nDetails: With Your Host Jezebel Steele \nPlus Lightshow from ZenJen Lighting Experiment\nBB BlackDog\nFeline and Strange\nReturn to Chaos\n\n\nhttp://www.blackmarketvenue.co.uk/
LOCATION:The Black Market Venue - High Street, Mansfield, NOTTS, NG20 0AB, UK
END:VEVENT

END:VCALENDAR
