BEGIN:VCALENDAR
VERSION:2.0
BEGIN:VEVENT
CLASS:PUBLIC
CATEGORIES:MEETING
DTSTART;TZID=America/New_York:20171007T100000
DTEND;TZID=America/New_York:20171007T100000
SUMMARY:Ruba Say And The Cosmic Rays at Frets And Necks Fest/Leslies Hope Benefit
DESCRIPTION:Price: Free; donations for suicide prevention\nAge Limit: All Ages\n\nDetails: All day festival hosted by Frets And Necks/Leslies Hope to raise suicide   awareness and prevention with tons of bands and activities...A good time for a good cause!!!
LOCATION:Frets And Necks Fest/Leslies Hope Benefit - 138 Carolina Ave, Hartsville, SC, 29550, US
END:VEVENT

END:VCALENDAR
