BEGIN:VCALENDAR
VERSION:2.0
BEGIN:VEVENT
CLASS:PUBLIC
CATEGORIES:MEETING
DTSTART;TZID=Pacific/Auckland:20171125T090000
DTEND;TZID=Pacific/Auckland:20171125T090000
SUMMARY:Phreaze at NZ Hip Hop Summit 2017 @ Toia Rec Centre
DESCRIPTION:Click here to buy tickets: http://www.nzhiphopsummit.com\nAge Limit: All Ages\n\nDetails: www.nzhiphopsummit.com
LOCATION:NZ Hip Hop Summit 2017 @ Toia Rec Centre - 28 Mason Ave, Otahuhu, NZ
END:VEVENT

END:VCALENDAR
