BEGIN:VCALENDAR
VERSION:2.0
BEGIN:VEVENT
CLASS:PUBLIC
CATEGORIES:MEETING
DTSTART;TZID=America/Chicago:20170805T190000
DTEND;TZID=America/Chicago:20170805T190000
SUMMARY:Soul Punch at 612 Kitchen and Cocktails
DESCRIPTION:Age Limit: All Ages\n\nDetails: Fun Cover Show! 
LOCATION:612 Kitchen and Cocktails - 612 West Woodbine Avenue, St. Louis, MO, 63122, US
END:VEVENT

END:VCALENDAR
