BEGIN:VCALENDAR
VERSION:2.0
BEGIN:VEVENT
CLASS:PUBLIC
CATEGORIES:MEETING
DTSTART;TZID=America/Los_Angeles:20170809T190000
DTEND;TZID=America/Los_Angeles:20170809T190000
SUMMARY:AndEver at Brick by Brick
DESCRIPTION:Price: $15\nAge Limit: 21+
LOCATION:Brick by Brick - 1130 Buenos Avenue, San Diego, CA, 92110, US
END:VEVENT

END:VCALENDAR
