BEGIN:VCALENDAR
VERSION:2.0
BEGIN:VEVENT
CLASS:PUBLIC
CATEGORIES:MEETING
DTSTART;TZID=America/Chicago:20170909T210000
DTEND;TZID=America/Chicago:20170909T210000
SUMMARY:Blameless Lake at Silvie's Lounge
DESCRIPTION:Age Limit: 21+
LOCATION:Silvie's Lounge - 1902 W Irving Park Rd, Chicago, IL, 60613, US
END:VEVENT

END:VCALENDAR
