BEGIN:VCALENDAR
VERSION:2.0
BEGIN:VEVENT
CLASS:PUBLIC
CATEGORIES:MEETING
DTSTART;TZID=Europe/London:20170826T200000
DTEND;TZID=Europe/London:20170826T200000
SUMMARY:Sacre Noir at SIPS pop up bar
DESCRIPTION:Price: FREE\nAge Limit: All Ages\n\nDetails: Pressure Valve presents live music as part of the Edinburgh Fringe Festival - Sacre Noir will feature at 9pm (approx.)
LOCATION:SIPS pop up bar - Niddry Street, Edinburgh, UK
END:VEVENT

END:VCALENDAR
