BEGIN:VCALENDAR
VERSION:2.0
BEGIN:VEVENT
CLASS:PUBLIC
CATEGORIES:MEETING
DTSTART;TZID=America/New_York:20170921T200000
DTEND;TZID=America/New_York:20170921T200000
SUMMARY:Dan Blakeslee at Tin Roof
DESCRIPTION:Age Limit: 21+
LOCATION:Tin Roof - 1117 Magnolia Rd, Charleston, SC, 29407, US
END:VEVENT

END:VCALENDAR
