BEGIN:VCALENDAR
VERSION:2.0
BEGIN:VEVENT
CLASS:PUBLIC
CATEGORIES:MEETING
DTSTART;TZID=America/New_York:20170708T193000
DTEND;TZID=America/New_York:20170708T193000
SUMMARY:Eliana Marcia at NORD
DESCRIPTION:Price: $10 advance $15 door\nClick here to buy tickets: https://www.paypal.com\nAge Limit: All Ages\n\nDetails: come join us for an evening of Brazilian Music.\nyou can buy tickets in advance for $10 by sending via paypal to elianamarcia_9@hotmail.com\n
LOCATION:NORD - 11 Trinity Place, New York, NY, 10006, US
END:VEVENT

END:VCALENDAR
