BEGIN:VCALENDAR
VERSION:2.0
BEGIN:VEVENT
CLASS:PUBLIC
CATEGORIES:MEETING
DTSTART;TZID=Europe/Athens:20170624T200000
DTEND;TZID=Europe/Athens:20170624T200000
SUMMARY:Alex Papadiamantis at Plaza Hotel
DESCRIPTION:Age Limit: All Ages
LOCATION:Plaza Hotel - syntagma, Athens, GR
END:VEVENT

END:VCALENDAR
