BEGIN:VCALENDAR
VERSION:2.0
BEGIN:VEVENT
CLASS:PUBLIC
CATEGORIES:MEETING
DTSTART;TZID=America/Los_Angeles:20170808T170000
DTEND;TZID=America/Los_Angeles:20170808T170000
SUMMARY:September Mourning at The Slide Bar
DESCRIPTION:Details: September Mourning, Edge Of Paradise  SEPTEMBER MOURNING (Sumerian Records) http://www.septembermourning.com www.facebook.com/septembermourning https://youtu.be/xUCvov2WU6Y EDGE OF PARADISE (ILS / Universal / Pure Steel Records) www.facebook.com/EdgeOfParadiseBand Tuesday August 08, 2017 DiPiazzas 5205 E Pacific Coast Hwy Long Beach, CA 90804 ***ALL AGES show!!!*** $10 advance / $12 dos Doors at 9 pm / Show at 930 pm  \n
LOCATION:The Slide Bar - Fullerton, CA, US
END:VEVENT

END:VCALENDAR
