BEGIN:VCALENDAR
VERSION:2.0
BEGIN:VEVENT
CLASS:PUBLIC
CATEGORIES:MEETING
DTSTART;TZID=America/Chicago:20171027T200000
DTEND;TZID=America/Chicago:20171027T200000
SUMMARY:Luna Lunacy at Acadia
DESCRIPTION:Age Limit: All Ages\n\nDetails: Powerhouse female fronted bands on tour \ncome see for yourself - Friday, Oct. 27th
LOCATION:Acadia - 3939 Cypress Creek Parkway, Houston, TX, 77014, US
END:VEVENT

END:VCALENDAR
