BEGIN:VCALENDAR
VERSION:2.0
BEGIN:VEVENT
CLASS:PUBLIC
CATEGORIES:MEETING
DTSTART;TZID=Europe/London:20171012T190000
DTEND;TZID=Europe/London:20171012T190000
SUMMARY:Belinda Carlisle at THE ASSEMBLY
DESCRIPTION:Click here to buy tickets: http://www.alttickets.com/belinda-carlisle-tickets\nAge Limit: All Ages
LOCATION:THE ASSEMBLY - SPENCER STREET, Leamington Spa, CV31 3NE, UK
END:VEVENT

END:VCALENDAR
