BEGIN:VCALENDAR
VERSION:2.0
BEGIN:VEVENT
CLASS:PUBLIC
CATEGORIES:MEETING
DTSTART;TZID=Europe/London:20171010T190000
DTEND;TZID=Europe/London:20171010T190000
SUMMARY:Belinda Carlisle at The Sage Gateshead
DESCRIPTION:Click here to buy tickets: http://www.alttickets.com/belinda-carlisle-tickets\nAge Limit: All Ages
LOCATION:The Sage Gateshead - Saint Mary's Square, Gateshead, ENG, NE8 2JR, UK
END:VEVENT

END:VCALENDAR
