BEGIN:VCALENDAR
VERSION:2.0
BEGIN:VEVENT
CLASS:PUBLIC
CATEGORIES:MEETING
DTSTART;TZID=Europe/London:20171009T190000
DTEND;TZID=Europe/London:20171009T190000
SUMMARY:Belinda Carlisle at GLASGOW ROYAL CONCERT HALL
DESCRIPTION:Click here to buy tickets: http://www.alttickets.com/belinda-carlisle-tickets\nAge Limit: All Ages
LOCATION:GLASGOW ROYAL CONCERT HALL - Hall, UK
END:VEVENT

END:VCALENDAR
