BEGIN:VCALENDAR
VERSION:2.0
BEGIN:VEVENT
CLASS:PUBLIC
CATEGORIES:MEETING
DTSTART;TZID=Europe/London:20171007T190000
DTEND;TZID=Europe/London:20171007T190000
SUMMARY:Belinda Carlisle at Liverpool Olympia
DESCRIPTION:Click here to buy tickets: http://www.alttickets.com/belinda-carlisle-tickets\nAge Limit: All Ages
LOCATION:Liverpool Olympia - Liverpool, UK
END:VEVENT

END:VCALENDAR
