BEGIN:VCALENDAR
VERSION:2.0
BEGIN:VEVENT
CLASS:PUBLIC
CATEGORIES:MEETING
DTSTART;TZID=Europe/London:20171002T180000
DTEND;TZID=Europe/London:20171002T180000
SUMMARY:Belinda Carlisle at Brighton Dome
DESCRIPTION:Click here to buy tickets: http://www.alttickets.com/belinda-carlisle-tickets\nAge Limit: All Ages
LOCATION:Brighton Dome - Brighton, UK
END:VEVENT

END:VCALENDAR
