BEGIN:VCALENDAR
VERSION:2.0
BEGIN:VEVENT
CLASS:PUBLIC
CATEGORIES:MEETING
DTSTART;TZID=Europe/London:20171001T180000
DTEND;TZID=Europe/London:20171001T180000
SUMMARY:Belinda Carlisle at City Hall Salisbury
DESCRIPTION:Click here to buy tickets: http://www.alttickets.com/belinda-carlisle-tickets\nAge Limit: All Ages
LOCATION:City Hall Salisbury - Malthouse Lane, Salisbury, WIL, SP2 7TU, UK
END:VEVENT

END:VCALENDAR
