BEGIN:VCALENDAR
VERSION:2.0
BEGIN:VEVENT
CLASS:PUBLIC
CATEGORIES:MEETING
DTSTART;TZID=Pacific/Auckland:20170602T200000
DTEND;TZID=Pacific/Auckland:20170602T200000
SUMMARY:Phreaze at T Slash Mixtape Launch
DESCRIPTION:Age Limit: 18+\n\nDetails: Catch performing LIVE at the mixtape launch for T Slash&#39;s brand spanking new Mixtape!! Rehab Tauranga!! 
LOCATION:T Slash Mixtape Launch - REHAB BAR, Tauranga, BOP, NZ
END:VEVENT

END:VCALENDAR
