BEGIN:VCALENDAR
VERSION:2.0
BEGIN:VEVENT
CLASS:PUBLIC
CATEGORIES:MEETING
DTSTART;TZID=America/New_York:20170513T200000
DTEND;TZID=America/New_York:20170513T200000
SUMMARY:Emperor Norton's Stationary Marching Band at ONCE Ballroom
DESCRIPTION:Price: $10 / $15 at the door\nClick here to buy tickets: https://www.ticketfly.com/purchase/event/1467729?_ga=1.104710793.862560016.1492012566\nAge Limit: All Ages\n\nDetails: 10th anniversary show!
LOCATION:ONCE Ballroom - Somerville, MA, US
END:VEVENT

END:VCALENDAR
