BEGIN:VCALENDAR
VERSION:2.0
BEGIN:VEVENT
CLASS:PUBLIC
CATEGORIES:MEETING
DTSTART;TZID=Pacific/Auckland:20170206T110000
DTEND;TZID=Pacific/Auckland:20170206T110000
SUMMARY:Phreaze at Waitangi Day @ Greerton
DESCRIPTION:Age Limit: All Ages\n\nDetails: FREE FAMILY EVENT FOR WAITANGI DAY! Catch PHREAZE performing LIVE around 11.45am!!
LOCATION:Waitangi Day @ Greerton - Greerton, Tauranga, BOP, 3113, NZ
END:VEVENT

END:VCALENDAR
