BEGIN:VCALENDAR
VERSION:2.0
BEGIN:VEVENT
CLASS:PUBLIC
CATEGORIES:MEETING
DTSTART;TZID=Europe/London:20171013T200000
DTEND;TZID=Europe/London:20171013T200000
SUMMARY:BB BlackDog Steampunk Rock at The George And Dragon
DESCRIPTION:Price: FREE\nAge Limit: All Ages\n\nDetails: BB BlackDog Play in Dales Home Town\nwith the Full Band plus Guests, \nDressing up Prefered, but come and have a good time even if you don&#39;t have a suit of Armour, or a Victorian Bustle dress.\nGreat Beers, Great Music, Wonderful Settings, and Fun Guarenteed
LOCATION:The George And Dragon - 117 Bridge Street, Belper, DER, DE56 1BA, UK
END:VEVENT

END:VCALENDAR
