BEGIN:VCALENDAR
VERSION:2.0
BEGIN:VEVENT
CLASS:PUBLIC
CATEGORIES:MEETING
DTSTART;TZID=Europe/London:20170811T200000
DTEND;TZID=Europe/London:20170811T200000
SUMMARY:BB BlackDog Steampunk Rock at The Workhouse
DESCRIPTION:Price: 40\nClick here to buy tickets: https://www.eventbrite.co.uk/e/phoenix-alternative-festival-2017-tickets-27456951481\nAge Limit: All Ages\n\nDetails: PHOENIX ALTERNATIVE FESTIVAL \n\nCome and Join us for another weekend of Fabulous fun at The Llanfyllin Workhouse! Friendly, Alternative Boutique Festival in Beautiful surroundings! On The Edge of Wales@ VERY lovely Victorian Workhouse\nAwesome &amp; Eclectic Mix of Performers From Around The Globe! Limited to 500 for intimate atmosphere.\nEveryone Welcome! All sub-cultures come and join together! Make friends and have fun! Music, Crafts, Unusual Market, Workshop, Kids Area, Costume competition with a difference, and much more! \nWe are raising money for &quot;Mind&quot; and the LLanfyllin Workhouse Charities.\nhttp://www.mind.org.uk/\nhttp://www.the-workhouse.org.uk/\n\nGLAMPING OPTION Furnished Bell tent\nGorgeous 4m bell tent with Single or Double Luxury Air Beds. A bottle of mineral water, with glasses, Bedside tables,Lantern &amp; Fairy Lights &amp; Rugs, Throws &amp; cushions to provide a cosy feel. (Sleeps one to four, arranged in single, twin, triple,double and twin double options.)&quot; Available from Thursday-Monday am \n@£250 per tent for 2 people/twin/double (Thu-mon)\n£270 per tent for triple or \n£290 for 4 people in 5m tent from thursday-monday inclusive. \nAs usual all the profit from this as well as camping/bunkhouse goes to The Llanfyllin Workhouse Charity! Tents being provided by https://www.facebook.com/MrBluebellEvent\n\n\nLocal Bus timetable\nhttp://www.tanat.co.uk/express-timetable.php?id=76\nTrains to Welshpool available.\n\nA few interesting things for the steampunk visitor to the Llanfyllin area (thanks Andy )\n\nhttp://www.cambrianrailways.com/html/llynclys_services.html\nhttp://history.powys.org.uk/school1/welshpool/pool.shtml\nhttp://www.parkhallfarm.co.uk/museums/victorian-school-museum/\nhttp://www.cpat.org.uk/projects/longer/llanymyn/llanym.htm
LOCATION:The Workhouse - Llanfyllin, Llanfyllin, SY22 5LE, UK
END:VEVENT

END:VCALENDAR
