BEGIN:VCALENDAR
VERSION:2.0
BEGIN:VEVENT
CLASS:PUBLIC
CATEGORIES:MEETING
DTSTART;TZID=Europe/Berlin:20170401T200000
DTEND;TZID=Europe/Berlin:20170401T200000
SUMMARY:Charles M. Mailer at Kneipennacht Herrieden
DESCRIPTION:Age Limit: All Ages\n\nDetails: We got it - first time at this Pub Festival in Herrieden - The  4Beats with the best of Rock&#39;n&#39;Roll, Rockabilly and Beatles Oldies - from the 50th to the 60th.
LOCATION:Kneipennacht Herrieden - Linde, Marktplatz 6, Herrieden, BY, 91567, DE
END:VEVENT

END:VCALENDAR
