BEGIN:VCALENDAR
VERSION:2.0
BEGIN:VEVENT
CLASS:PUBLIC
CATEGORIES:MEETING
DTSTART;TZID=America/Chicago:20170908T200000
DTEND;TZID=America/Chicago:20170908T200000
SUMMARY:Soul Punch at 612 Kitchen and Cocktails
DESCRIPTION:Age Limit: All Ages
LOCATION:612 Kitchen and Cocktails - 612 West Woodbine Avenue, St. Louis, MO, 63122, US
END:VEVENT

END:VCALENDAR
