BEGIN:VCALENDAR
VERSION:2.0
BEGIN:VEVENT
CLASS:PUBLIC
CATEGORIES:MEETING
DTSTART;TZID=America/Chicago:20170311T203000
DTEND;TZID=America/Chicago:20170311T203000
SUMMARY:Ben Ricketts at The Way Out Club
DESCRIPTION:Age Limit: 21+
LOCATION:The Way Out Club - 2525 S Jefferson Ave, St Louis, MO, 63104, US
END:VEVENT

END:VCALENDAR
