BEGIN:VCALENDAR
VERSION:2.0
BEGIN:VEVENT
CLASS:PUBLIC
CATEGORIES:MEETING
DTSTART;TZID=America/Denver:20170318T200000
DTEND;TZID=America/Denver:20170318T200000
SUMMARY:The Elders at Stargazers Theater
DESCRIPTION:Price: Advanced General Admission $15 plus fee  ///  Day of Show General Admission  $20 plus fee\nClick here to buy tickets: https://apps.vendini.com/ticket-software.html?e=f20c189b6937709d49490c7bdb9633f0&amp;t=tix&amp;vqitq=4ce975b0-8186-41b2-9a78-b2332b422152&amp;vqitp=a3091199-9498-4b0e-a9d5-4096ad948d7f&amp;vqitts=1481913595&amp;vqitc=vendini&amp;vqite=itl&amp;vqitrt=Safetynet&amp;vqith=19f2be52320e1af7e\nAge Limit: All Ages
LOCATION:Stargazers Theater - 10 South Parkside Drive, Colorado Springs, CO, 80910, US
END:VEVENT

END:VCALENDAR
